Package: EnrichedHeatmap Version: 1.36.0 Command: /Library/Frameworks/R.framework/Resources/bin/R CMD build --keep-empty-dirs --no-resave-data EnrichedHeatmap StartedAt: 2025-02-03 18:44:01 -0500 (Mon, 03 Feb 2025) EndedAt: 2025-02-03 18:58:27 -0500 (Mon, 03 Feb 2025) EllapsedTime: 866.0 seconds RetCode: 0 Status: OK PackageFile: EnrichedHeatmap_1.36.0.tar.gz PackageFileSize: 13.15 MiB