Package: EnrichedHeatmap Version: 1.36.0 Command: /home/biocbuild/bbs-3.20-bioc/R/bin/R CMD build --keep-empty-dirs --no-resave-data --md5 EnrichedHeatmap StartedAt: 2025-02-03 17:18:17 -0500 (Mon, 03 Feb 2025) EndedAt: 2025-02-03 17:23:38 -0500 (Mon, 03 Feb 2025) EllapsedTime: 321.4 seconds RetCode: 0 Status: OK PackageFile: EnrichedHeatmap_1.36.0.tar.gz PackageFileSize: 11.63 MiB