Package: EnrichedHeatmap Version: 1.36.0 Command: rm -rf EnrichedHeatmap.buildbin-libdir && mkdir EnrichedHeatmap.buildbin-libdir && F:\biocbuild\bbs-3.20-bioc\R\bin\R.exe CMD INSTALL --build --library=EnrichedHeatmap.buildbin-libdir EnrichedHeatmap_1.36.0.tar.gz StartedAt: 2025-02-04 08:26:18 -0500 (Tue, 04 Feb 2025) EndedAt: 2025-02-04 08:27:08 -0500 (Tue, 04 Feb 2025) EllapsedTime: 50.5 seconds RetCode: 0 Status: OK PackageFile: EnrichedHeatmap_1.36.0.zip PackageFileSize: 8.953 MiB