Package: EnrichedHeatmap Version: 1.36.0 Command: F:\biocbuild\bbs-3.20-bioc\R\bin\R.exe CMD check --no-multiarch --install=check:EnrichedHeatmap.install-out.txt --library=F:\biocbuild\bbs-3.20-bioc\R\library --no-vignettes --timings EnrichedHeatmap_1.36.0.tar.gz StartedAt: 2025-02-04 01:33:09 -0500 (Tue, 04 Feb 2025) EndedAt: 2025-02-04 01:36:03 -0500 (Tue, 04 Feb 2025) EllapsedTime: 173.8 seconds RetCode: 0 Status: OK CheckDir: EnrichedHeatmap.Rcheck Warnings: 0