Package: EnrichedHeatmap Version: 1.36.0 Command: F:\biocbuild\bbs-3.20-bioc\R\bin\R.exe CMD INSTALL EnrichedHeatmap StartedAt: 2025-02-03 15:54:09 -0500 (Mon, 03 Feb 2025) EndedAt: 2025-02-03 15:54:57 -0500 (Mon, 03 Feb 2025) EllapsedTime: 48.6 seconds RetCode: 0 Status: OK