Package: EnrichedHeatmap Version: 1.36.0 Command: /home/biocbuild/R/R/bin/R CMD check --install=check:EnrichedHeatmap.install-out.txt --library=/home/biocbuild/R/R/site-library --no-vignettes --timings EnrichedHeatmap_1.36.0.tar.gz StartedAt: 2025-02-04 06:43:30 -0000 (Tue, 04 Feb 2025) EndedAt: 2025-02-04 06:45:49 -0000 (Tue, 04 Feb 2025) EllapsedTime: 139.1 seconds RetCode: 0 Status: OK CheckDir: EnrichedHeatmap.Rcheck Warnings: 0