Package: EnrichedHeatmap Version: 1.36.0 Command: /home/biocbuild/R/R/bin/R CMD INSTALL EnrichedHeatmap StartedAt: 2025-02-03 20:50:13 -0000 (Mon, 03 Feb 2025) EndedAt: 2025-02-03 20:50:36 -0000 (Mon, 03 Feb 2025) EllapsedTime: 22.5 seconds RetCode: 0 Status: OK