Package: EpiCompare Version: 1.10.0 Command: rm -rf EpiCompare.buildbin-libdir && mkdir EpiCompare.buildbin-libdir && /Users/biocbuild/BBS/utils/build-universal.sh EpiCompare_1.10.0.tar.gz /Library/Frameworks/R.framework/Resources/bin/R EpiCompare.buildbin-libdir StartedAt: 2025-02-01 14:48:42 -0500 (Sat, 01 Feb 2025) EndedAt: 2025-02-01 14:49:43 -0500 (Sat, 01 Feb 2025) EllapsedTime: 60.7 seconds RetCode: 0 Status: OK PackageFile: EpiCompare_1.10.0.tgz PackageFileSize: 1.653 MiB