Package: EpiCompare Version: 1.10.0 Command: /Library/Frameworks/R.framework/Resources/bin/R CMD INSTALL EpiCompare StartedAt: 2025-01-30 17:15:53 -0500 (Thu, 30 Jan 2025) EndedAt: 2025-01-30 17:16:48 -0500 (Thu, 30 Jan 2025) EllapsedTime: 55.0 seconds RetCode: 0 Status: OK