Package: EpiCompare Version: 1.10.0 Command: /Library/Frameworks/R.framework/Resources/bin/R CMD build --keep-empty-dirs --no-resave-data EpiCompare StartedAt: 2025-01-30 18:55:01 -0500 (Thu, 30 Jan 2025) EndedAt: 2025-01-30 18:58:03 -0500 (Thu, 30 Jan 2025) EllapsedTime: 182.3 seconds RetCode: 0 Status: OK PackageFile: EpiCompare_1.10.0.tar.gz PackageFileSize: 1.871 MiB