Package: EpiCompare Version: 1.10.0 Command: /Library/Frameworks/R.framework/Resources/bin/R CMD check --install=check:EpiCompare.install-out.txt --library=/Library/Frameworks/R.framework/Resources/library --no-vignettes --timings EpiCompare_1.10.0.tar.gz StartedAt: 2025-01-31 03:31:02 -0500 (Fri, 31 Jan 2025) EndedAt: 2025-01-31 03:57:02 -0500 (Fri, 31 Jan 2025) EllapsedTime: 1559.6 seconds RetCode: 0 Status: OK CheckDir: EpiCompare.Rcheck Warnings: 0