Package: EpiCompare Version: 1.10.0 Command: /home/biocbuild/bbs-3.20-bioc/R/bin/R CMD check --install=check:EpiCompare.install-out.txt --library=/home/biocbuild/bbs-3.20-bioc/R/site-library --timings EpiCompare_1.10.0.tar.gz StartedAt: 2025-01-30 21:56:56 -0500 (Thu, 30 Jan 2025) EndedAt: 2025-01-30 22:10:28 -0500 (Thu, 30 Jan 2025) EllapsedTime: 811.8 seconds RetCode: 0 Status: OK CheckDir: EpiCompare.Rcheck Warnings: 0