Package: EpiCompare Version: 1.10.0 Command: rm -rf EpiCompare.buildbin-libdir && mkdir EpiCompare.buildbin-libdir && F:\biocbuild\bbs-3.20-bioc\R\bin\R.exe CMD INSTALL --build --library=EpiCompare.buildbin-libdir EpiCompare_1.10.0.tar.gz StartedAt: 2025-01-31 08:36:37 -0500 (Fri, 31 Jan 2025) EndedAt: 2025-01-31 08:37:56 -0500 (Fri, 31 Jan 2025) EllapsedTime: 78.5 seconds RetCode: 0 Status: OK PackageFile: EpiCompare_1.10.0.zip PackageFileSize: 1.664 MiB