Package: EpiCompare Version: 1.10.0 Command: chmod a+r EpiCompare -R && F:\biocbuild\bbs-3.20-bioc\R\bin\R.exe CMD build --keep-empty-dirs --no-resave-data EpiCompare StartedAt: 2025-01-30 18:37:28 -0500 (Thu, 30 Jan 2025) EndedAt: 2025-01-30 18:39:18 -0500 (Thu, 30 Jan 2025) EllapsedTime: 110.8 seconds RetCode: 0 Status: OK PackageFile: EpiCompare_1.10.0.tar.gz PackageFileSize: 1.871 MiB