Package: EpiCompare Version: 1.10.0 Command: F:\biocbuild\bbs-3.20-bioc\R\bin\R.exe CMD INSTALL EpiCompare StartedAt: 2025-01-30 16:29:25 -0500 (Thu, 30 Jan 2025) EndedAt: 2025-01-30 16:30:41 -0500 (Thu, 30 Jan 2025) EllapsedTime: 75.8 seconds RetCode: 0 Status: OK