Package: EpiCompare Version: 1.10.0 Command: /home/biocbuild/R/R/bin/R CMD build --keep-empty-dirs --no-resave-data EpiCompare StartedAt: 2025-01-30 23:25:43 -0000 (Thu, 30 Jan 2025) EndedAt: 2025-01-30 23:27:14 -0000 (Thu, 30 Jan 2025) EllapsedTime: 91.0 seconds RetCode: 0 Status: OK PackageFile: EpiCompare_1.10.0.tar.gz PackageFileSize: 1.944 MiB