Package: EpiCompare Version: 1.10.0 Command: /home/biocbuild/R/R/bin/R CMD check --install=check:EpiCompare.install-out.txt --library=/home/biocbuild/R/R/site-library --no-vignettes --timings EpiCompare_1.10.0.tar.gz StartedAt: 2025-01-31 06:01:05 -0000 (Fri, 31 Jan 2025) EndedAt: 2025-01-31 06:41:05 -0000 (Fri, 31 Jan 2025) EllapsedTime: 2400.4 seconds RetCode: None Status: TIMEOUT CheckDir: EpiCompare.Rcheck Warnings: NA