Package: EpiCompare Version: 1.10.0 Command: /home/biocbuild/R/R/bin/R CMD INSTALL EpiCompare StartedAt: 2025-01-30 20:51:45 -0000 (Thu, 30 Jan 2025) EndedAt: 2025-01-30 20:52:43 -0000 (Thu, 30 Jan 2025) EllapsedTime: 57.1 seconds RetCode: 0 Status: OK