Package: EpiMix Version: 1.8.0 Command: rm -rf EpiMix.buildbin-libdir && mkdir EpiMix.buildbin-libdir && /Users/biocbuild/BBS/utils/build-universal.sh EpiMix_1.8.0.tar.gz /Library/Frameworks/R.framework/Resources/bin/R EpiMix.buildbin-libdir StartedAt: 2025-02-05 15:45:08 -0500 (Wed, 05 Feb 2025) EndedAt: 2025-02-05 15:46:01 -0500 (Wed, 05 Feb 2025) EllapsedTime: 53.5 seconds RetCode: 0 Status: OK PackageFile: EpiMix_1.8.0.tgz PackageFileSize: 2.352 MiB