Package: EpiMix Version: 1.8.0 Command: /Library/Frameworks/R.framework/Resources/bin/R CMD build --keep-empty-dirs --no-resave-data EpiMix StartedAt: 2025-01-30 23:18:09 -0500 (Thu, 30 Jan 2025) EndedAt: 2025-01-30 23:25:40 -0500 (Thu, 30 Jan 2025) EllapsedTime: 450.9 seconds RetCode: 0 Status: OK PackageFile: EpiMix_1.8.0.tar.gz PackageFileSize: 2.902 MiB