Package: EpiMix Version: 1.8.0 Command: /Library/Frameworks/R.framework/Resources/bin/R CMD INSTALL EpiMix StartedAt: 2025-02-03 17:01:53 -0500 (Mon, 03 Feb 2025) EndedAt: 2025-02-03 17:02:42 -0500 (Mon, 03 Feb 2025) EllapsedTime: 48.9 seconds RetCode: 0 Status: OK