Package: EpiMix Version: 1.8.0 Command: /Library/Frameworks/R.framework/Resources/bin/R CMD build --keep-empty-dirs --no-resave-data EpiMix StartedAt: 2025-02-03 18:46:22 -0500 (Mon, 03 Feb 2025) EndedAt: 2025-02-03 18:57:29 -0500 (Mon, 03 Feb 2025) EllapsedTime: 666.6 seconds RetCode: 0 Status: OK PackageFile: EpiMix_1.8.0.tar.gz PackageFileSize: 2.893 MiB