Package: EpiMix Version: 1.8.0 Command: /Library/Frameworks/R.framework/Resources/bin/R CMD check --install=check:EpiMix.install-out.txt --library=/Library/Frameworks/R.framework/Resources/library --no-vignettes --timings EpiMix_1.8.0.tar.gz StartedAt: 2025-02-04 03:19:25 -0500 (Tue, 04 Feb 2025) EndedAt: 2025-02-04 03:36:20 -0500 (Tue, 04 Feb 2025) EllapsedTime: 1015.0 seconds RetCode: 0 Status: OK CheckDir: EpiMix.Rcheck Warnings: 0