Package: EpiMix Version: 1.8.0 Command: /home/biocbuild/bbs-3.20-bioc/R/bin/R CMD check --install=check:EpiMix.install-out.txt --library=/home/biocbuild/bbs-3.20-bioc/R/site-library --timings EpiMix_1.8.0.tar.gz StartedAt: 2025-02-03 22:08:41 -0500 (Mon, 03 Feb 2025) EndedAt: 2025-02-03 22:21:17 -0500 (Mon, 03 Feb 2025) EllapsedTime: 755.8 seconds RetCode: 0 Status: OK CheckDir: EpiMix.Rcheck Warnings: 0