Package: EpiMix Version: 1.8.0 Command: rm -rf EpiMix.buildbin-libdir && mkdir EpiMix.buildbin-libdir && F:\biocbuild\bbs-3.20-bioc\R\bin\R.exe CMD INSTALL --build --library=EpiMix.buildbin-libdir EpiMix_1.8.0.tar.gz StartedAt: 2025-02-04 08:27:08 -0500 (Tue, 04 Feb 2025) EndedAt: 2025-02-04 08:28:32 -0500 (Tue, 04 Feb 2025) EllapsedTime: 83.5 seconds RetCode: 0 Status: OK PackageFile: EpiMix_1.8.0.zip PackageFileSize: 1.918 MiB