Package: EpiMix Version: 1.8.0 Command: chmod a+r EpiMix -R && F:\biocbuild\bbs-3.20-bioc\R\bin\R.exe CMD build --keep-empty-dirs --no-resave-data EpiMix StartedAt: 2025-01-30 18:38:38 -0500 (Thu, 30 Jan 2025) EndedAt: 2025-01-30 18:47:07 -0500 (Thu, 30 Jan 2025) EllapsedTime: 509.3 seconds RetCode: 0 Status: OK PackageFile: EpiMix_1.8.0.tar.gz PackageFileSize: 2.459 MiB