Package: EpiMix Version: 1.8.0 Command: /home/biocbuild/R/R/bin/R CMD build --keep-empty-dirs --no-resave-data EpiMix StartedAt: 2025-02-10 23:15:18 -0000 (Mon, 10 Feb 2025) EndedAt: 2025-02-10 23:30:58 -0000 (Mon, 10 Feb 2025) EllapsedTime: 939.4 seconds RetCode: 0 Status: OK PackageFile: EpiMix_1.8.0.tar.gz PackageFileSize: 2.633 MiB