Package: EpiMix Version: 1.8.0 Command: /home/biocbuild/R/R/bin/R CMD check --install=check:EpiMix.install-out.txt --library=/home/biocbuild/R/R/site-library --no-vignettes --timings EpiMix_1.8.0.tar.gz StartedAt: 2025-02-11 05:58:50 -0000 (Tue, 11 Feb 2025) EndedAt: 2025-02-11 06:08:31 -0000 (Tue, 11 Feb 2025) EllapsedTime: 581.0 seconds RetCode: 0 Status: OK CheckDir: EpiMix.Rcheck Warnings: 0