Package: EpiMix Version: 1.8.0 Command: /home/biocbuild/R/R/bin/R CMD INSTALL EpiMix StartedAt: 2025-02-03 21:02:38 -0000 (Mon, 03 Feb 2025) EndedAt: 2025-02-03 21:03:30 -0000 (Mon, 03 Feb 2025) EllapsedTime: 52.9 seconds RetCode: 0 Status: OK