Package: EventPointer Version: 3.14.0 Command: /Library/Frameworks/R.framework/Resources/bin/R CMD build --keep-empty-dirs --no-resave-data EventPointer StartedAt: 2025-02-03 23:25:57 -0500 (Mon, 03 Feb 2025) EndedAt: 2025-02-03 23:27:34 -0500 (Mon, 03 Feb 2025) EllapsedTime: 96.9 seconds RetCode: 0 Status: OK PackageFile: EventPointer_3.14.0.tar.gz PackageFileSize: 1.642 MiB