Package: EventPointer Version: 3.14.0 Command: /Library/Frameworks/R.framework/Resources/bin/R CMD INSTALL EventPointer StartedAt: 2025-02-10 17:42:15 -0500 (Mon, 10 Feb 2025) EndedAt: 2025-02-10 17:43:16 -0500 (Mon, 10 Feb 2025) EllapsedTime: 60.7 seconds RetCode: 0 Status: OK