Package: EventPointer Version: 3.14.0 Command: /Library/Frameworks/R.framework/Resources/bin/R CMD check --install=check:EventPointer.install-out.txt --library=/Library/Frameworks/R.framework/Resources/library --no-vignettes --timings EventPointer_3.14.0.tar.gz StartedAt: 2025-02-11 03:17:22 -0500 (Tue, 11 Feb 2025) EndedAt: 2025-02-11 03:29:58 -0500 (Tue, 11 Feb 2025) EllapsedTime: 756.3 seconds RetCode: 0 Status: OK CheckDir: EventPointer.Rcheck Warnings: 0