Package: EventPointer Version: 3.14.0 Command: /home/biocbuild/bbs-3.20-bioc/R/bin/R CMD build --keep-empty-dirs --no-resave-data --md5 EventPointer StartedAt: 2025-02-03 17:23:11 -0500 (Mon, 03 Feb 2025) EndedAt: 2025-02-03 17:24:24 -0500 (Mon, 03 Feb 2025) EllapsedTime: 72.3 seconds RetCode: 0 Status: OK PackageFile: EventPointer_3.14.0.tar.gz PackageFileSize: 1.647 MiB