Package: EventPointer Version: 3.14.0 Command: rm -rf EventPointer.buildbin-libdir && mkdir EventPointer.buildbin-libdir && F:\biocbuild\bbs-3.20-bioc\R\bin\R.exe CMD INSTALL --build --library=EventPointer.buildbin-libdir EventPointer_3.14.0.tar.gz StartedAt: 2025-02-11 08:26:21 -0500 (Tue, 11 Feb 2025) EndedAt: 2025-02-11 08:28:24 -0500 (Tue, 11 Feb 2025) EllapsedTime: 122.9 seconds RetCode: 0 Status: OK PackageFile: EventPointer_3.14.0.zip PackageFileSize: 1.327 MiB