Package: EventPointer Version: 3.14.0 Command: chmod a+r EventPointer -R && F:\biocbuild\bbs-3.20-bioc\R\bin\R.exe CMD build --keep-empty-dirs --no-resave-data EventPointer StartedAt: 2025-02-03 19:02:25 -0500 (Mon, 03 Feb 2025) EndedAt: 2025-02-03 19:04:28 -0500 (Mon, 03 Feb 2025) EllapsedTime: 123.6 seconds RetCode: 0 Status: OK PackageFile: EventPointer_3.14.0.tar.gz PackageFileSize: 1.642 MiB