Package: EventPointer Version: 3.14.0 Command: F:\biocbuild\bbs-3.20-bioc\R\bin\R.exe CMD check --no-multiarch --install=check:EventPointer.install-out.txt --library=F:\biocbuild\bbs-3.20-bioc\R\library --no-vignettes --timings EventPointer_3.14.0.tar.gz StartedAt: 2025-02-04 01:44:59 -0500 (Tue, 04 Feb 2025) EndedAt: 2025-02-04 01:51:21 -0500 (Tue, 04 Feb 2025) EllapsedTime: 381.7 seconds RetCode: 0 Status: OK CheckDir: EventPointer.Rcheck Warnings: 0