Package: EventPointer Version: 3.14.0 Command: /home/biocbuild/R/R/bin/R CMD build --keep-empty-dirs --no-resave-data EventPointer StartedAt: 2025-02-03 23:31:33 -0000 (Mon, 03 Feb 2025) EndedAt: 2025-02-03 23:33:10 -0000 (Mon, 03 Feb 2025) EllapsedTime: 97.0 seconds RetCode: 0 Status: OK PackageFile: EventPointer_3.14.0.tar.gz PackageFileSize: 1.666 MiB