Package: ExCluster Version: 1.24.0 Command: /Library/Frameworks/R.framework/Resources/bin/R CMD build --keep-empty-dirs --no-resave-data ExCluster StartedAt: 2025-02-03 18:52:40 -0500 (Mon, 03 Feb 2025) EndedAt: 2025-02-03 18:54:16 -0500 (Mon, 03 Feb 2025) EllapsedTime: 95.7 seconds RetCode: 0 Status: OK PackageFile: ExCluster_1.24.0.tar.gz PackageFileSize: 404.3 KiB