Package: ExCluster Version: 1.24.0 Command: /Library/Frameworks/R.framework/Resources/bin/R CMD check --install=check:ExCluster.install-out.txt --library=/Library/Frameworks/R.framework/Resources/library --no-vignettes --timings ExCluster_1.24.0.tar.gz StartedAt: 2025-02-04 03:33:54 -0500 (Tue, 04 Feb 2025) EndedAt: 2025-02-04 03:41:36 -0500 (Tue, 04 Feb 2025) EllapsedTime: 462.5 seconds RetCode: 0 Status: OK CheckDir: ExCluster.Rcheck Warnings: 0