Package: ExCluster Version: 1.24.0 Command: /home/biocbuild/R/R/bin/R CMD build --keep-empty-dirs --no-resave-data ExCluster StartedAt: 2025-02-10 23:21:01 -0000 (Mon, 10 Feb 2025) EndedAt: 2025-02-10 23:21:53 -0000 (Mon, 10 Feb 2025) EllapsedTime: 52.0 seconds RetCode: 0 Status: OK PackageFile: ExCluster_1.24.0.tar.gz PackageFileSize: 397.9 KiB