Package: ExiMiR Version: 2.48.0 Command: /Library/Frameworks/R.framework/Resources/bin/R CMD build --keep-empty-dirs --no-resave-data ExiMiR StartedAt: 2025-02-03 18:52:48 -0500 (Mon, 03 Feb 2025) EndedAt: 2025-02-03 18:56:31 -0500 (Mon, 03 Feb 2025) EllapsedTime: 223.4 seconds RetCode: 0 Status: OK PackageFile: ExiMiR_2.48.0.tar.gz PackageFileSize: 1.506 MiB