Package: ExiMiR Version: 2.48.0 Command: /Library/Frameworks/R.framework/Resources/bin/R CMD check --install=check:ExiMiR.install-out.txt --library=/Library/Frameworks/R.framework/Resources/library --no-vignettes --timings ExiMiR_2.48.0.tar.gz StartedAt: 2025-02-11 03:20:49 -0500 (Tue, 11 Feb 2025) EndedAt: 2025-02-11 03:23:04 -0500 (Tue, 11 Feb 2025) EllapsedTime: 134.6 seconds RetCode: 0 Status: OK CheckDir: ExiMiR.Rcheck Warnings: 0