Package: ExiMiR Version: 2.48.0 Command: /home/biocbuild/bbs-3.20-bioc/R/bin/R CMD build --keep-empty-dirs --no-resave-data --md5 ExiMiR StartedAt: 2025-02-03 17:23:34 -0500 (Mon, 03 Feb 2025) EndedAt: 2025-02-03 17:24:40 -0500 (Mon, 03 Feb 2025) EllapsedTime: 65.3 seconds RetCode: 0 Status: OK PackageFile: ExiMiR_2.48.0.tar.gz PackageFileSize: 1.507 MiB