Package: ExiMiR Version: 2.48.0 Command: /home/biocbuild/R/R/bin/R CMD build --keep-empty-dirs --no-resave-data ExiMiR StartedAt: 2025-02-03 23:32:27 -0000 (Mon, 03 Feb 2025) EndedAt: 2025-02-03 23:34:05 -0000 (Mon, 03 Feb 2025) EllapsedTime: 98.0 seconds RetCode: 0 Status: OK PackageFile: ExiMiR_2.48.0.tar.gz PackageFileSize: 1.496 MiB