Package: ExiMiR Version: 2.48.0 Command: /home/biocbuild/R/R/bin/R CMD INSTALL ExiMiR StartedAt: 2025-02-10 20:13:31 -0000 (Mon, 10 Feb 2025) EndedAt: 2025-02-10 20:13:48 -0000 (Mon, 10 Feb 2025) EllapsedTime: 16.4 seconds RetCode: 0 Status: OK