Package: ExperimentHubData Version: 1.32.0 Command: rm -rf ExperimentHubData.buildbin-libdir && mkdir ExperimentHubData.buildbin-libdir && /Users/biocbuild/BBS/utils/build-universal.sh ExperimentHubData_1.32.0.tar.gz /Library/Frameworks/R.framework/Resources/bin/R ExperimentHubData.buildbin-libdir StartedAt: 2025-02-05 15:49:05 -0500 (Wed, 05 Feb 2025) EndedAt: 2025-02-05 15:49:58 -0500 (Wed, 05 Feb 2025) EllapsedTime: 52.4 seconds RetCode: 0 Status: OK PackageFile: ExperimentHubData_1.32.0.tgz PackageFileSize: 512.9 KiB