Package: ExperimentHubData Version: 1.32.0 Command: /Library/Frameworks/R.framework/Resources/bin/R CMD build --keep-empty-dirs --no-resave-data ExperimentHubData StartedAt: 2025-02-10 18:49:52 -0500 (Mon, 10 Feb 2025) EndedAt: 2025-02-10 18:51:24 -0500 (Mon, 10 Feb 2025) EllapsedTime: 91.6 seconds RetCode: 0 Status: OK PackageFile: ExperimentHubData_1.32.0.tar.gz PackageFileSize: 223 KiB