Package: ExperimentHubData Version: 1.32.0 Command: /Library/Frameworks/R.framework/Resources/bin/R CMD check --install=check:ExperimentHubData.install-out.txt --library=/Library/Frameworks/R.framework/Resources/library --no-vignettes --timings ExperimentHubData_1.32.0.tar.gz StartedAt: 2025-02-11 03:21:15 -0500 (Tue, 11 Feb 2025) EndedAt: 2025-02-11 03:30:51 -0500 (Tue, 11 Feb 2025) EllapsedTime: 576.3 seconds RetCode: 0 Status: WARNINGS CheckDir: ExperimentHubData.Rcheck Warnings: 1