Package: ExperimentHubData Version: 1.32.0 Command: F:\biocbuild\bbs-3.20-bioc\R\bin\R.exe CMD INSTALL ExperimentHubData StartedAt: 2025-02-10 16:22:33 -0500 (Mon, 10 Feb 2025) EndedAt: 2025-02-10 16:23:21 -0500 (Mon, 10 Feb 2025) EllapsedTime: 48.3 seconds RetCode: 0 Status: OK