Package: ExperimentHubData Version: 1.32.0 Command: /home/biocbuild/R/R/bin/R CMD build --keep-empty-dirs --no-resave-data ExperimentHubData StartedAt: 2025-01-30 23:32:40 -0000 (Thu, 30 Jan 2025) EndedAt: 2025-01-30 23:33:32 -0000 (Thu, 30 Jan 2025) EllapsedTime: 52.0 seconds RetCode: 0 Status: OK PackageFile: ExperimentHubData_1.32.0.tar.gz PackageFileSize: 247 KiB